BEGIN:VCALENDAR
VERSION:2.0
PRODID:-//wp-events-plugin.com//7.1.7//EN
TZID:Europe/Madrid
X-WR-TIMEZONE:Europe/Madrid
BEGIN:VEVENT
UID:89@asaja.com
DTSTART;TZID=Europe/Madrid:20250812T120000
DTEND;TZID=Europe/Madrid:20250812T120000
DTSTAMP:20250811T065355Z
URL:https://www.asaja.com/eventos/xxxviii-dia-del-viticultor-de-tomelloso/
SUMMARY:XXXVIII Día del Viticultor de Tomelloso.
DESCRIPTION:ASAJA Ciudad Real les convoca a una rueda de prensa en la que l
 a organización agraria presentará los actos programados con motivo del X
 XXVIII Día del Viticultor de Tomelloso. Atenderá a los medios Florencio 
 Rodríguez\, secretario general de ASAJA Ciudad Real\, y Emilio Cepeda\, p
 residente de ASAJA Tomelloso. MARTES\, 12 DE AGOSTO. PINTOR LÓPEZ TORRES\
 , 6 1ª PLANTA (TOMELLOSO)
ATTACH;FMTTYPE=image/jpeg:https://www.asaja.com/wp-content/uploads/2025/08
 /Viaje-gastronomico-por-Castilla-La-Mancha-vino-manchego.jpg
CATEGORIES:Plurirregional
LOCATION:Sede Asaja Tomelloso. PINTOR LÓPEZ TORRES\, PINTOR LÓPEZ TORRES\
 , 6 1ª PLANTA (TOMELLOSO)\, Ciudad Real\, España
X-APPLE-STRUCTURED-LOCATION;VALUE=URI;X-ADDRESS=PINTOR LÓPEZ TORRES\, 6 1
 ª PLANTA (TOMELLOSO)\, Ciudad Real\, España;X-APPLE-RADIUS=100;X-TITLE=S
 ede Asaja Tomelloso. PINTOR LÓPEZ TORRES:geo:0,0
END:VEVENT
BEGIN:VTIMEZONE
TZID:Europe/Madrid
X-LIC-LOCATION:Europe/Madrid
BEGIN:DAYLIGHT
DTSTART:20250330T030000
TZOFFSETFROM:+0100
TZOFFSETTO:+0200
TZNAME:CEST
END:DAYLIGHT
END:VTIMEZONE
END:VCALENDAR