BEGIN:VCALENDAR
VERSION:2.0
PRODID:-//wp-events-plugin.com//7.1.7//EN
TZID:Europe/Madrid
X-WR-TIMEZONE:Europe/Madrid
BEGIN:VEVENT
UID:21@asaja.com
DTSTART;TZID=Europe/Madrid:20250603T160000
DTEND;TZID=Europe/Madrid:20250603T210000
DTSTAMP:20250529T121529Z
URL:https://www.asaja.com/eventos/usuario-profesional-nivel-cualificado-pr
 oducto-fitosanitario/
SUMMARY:Usuario profesional nivel cualificado Producto fitosanitario
DESCRIPTION:
ATTACH;FMTTYPE=image/jpeg:https://www.asaja.com/wp-content/uploads/2025/05
 /Captura-de-pantalla-2025-05-22-144746.png
CATEGORIES:Plurirregional
LOCATION:Avila\, Ávila\, Avila\, España
X-APPLE-STRUCTURED-LOCATION;VALUE=URI;X-ADDRESS=Ávila\, Avila\, España;X-
 APPLE-RADIUS=100;X-TITLE=Avila:geo:0,0
END:VEVENT
BEGIN:VTIMEZONE
TZID:Europe/Madrid
X-LIC-LOCATION:Europe/Madrid
BEGIN:DAYLIGHT
DTSTART:20250330T030000
TZOFFSETFROM:+0100
TZOFFSETTO:+0200
TZNAME:CEST
END:DAYLIGHT
END:VTIMEZONE
END:VCALENDAR