BEGIN:VCALENDAR
VERSION:2.0
PRODID:-//wp-events-plugin.com//7.1.7//EN
TZID:Europe/Madrid
X-WR-TIMEZONE:Europe/Madrid
BEGIN:VEVENT
UID:165@asaja.com
DTSTART;TZID=Europe/Madrid:20251103T170000
DTEND;TZID=Europe/Madrid:20251111T210000
DTSTAMP:20251104T111905Z
URL:https://www.asaja.com/eventos/plaguicidas-de-uso-ganadero-nivel-basico
 /
SUMMARY:Curso de plaguicidas de uso Ganadero. Nivel Básico
DESCRIPTION:Publicado. 23/10
ATTACH;FMTTYPE=image/jpeg:https://www.asaja.com/wp-content/uploads/2025/11
 /N-85-PLAGUICIDAS-USO-GANADERO-BADAJOZ-pdf.jpg
CATEGORIES:Plurirregional
LOCATION:CASA DEL DUQUE\, CALLE ENCINASOLA\, S/N\, 06120 OLIVA DE LA FRONTE
 RA (BADAJOZ)\, España
X-APPLE-STRUCTURED-LOCATION;VALUE=URI;X-ADDRESS=CALLE ENCINASOLA\, S/N\, 06
 120 OLIVA DE LA FRONTERA (BADAJOZ)\, España;X-APPLE-RADIUS=100;X-TITLE=CA
 SA DEL DUQUE:geo:0,0
END:VEVENT
BEGIN:VTIMEZONE
TZID:Europe/Madrid
X-LIC-LOCATION:Europe/Madrid
BEGIN:STANDARD
DTSTART:20251026T020000
TZOFFSETFROM:+0200
TZOFFSETTO:+0100
TZNAME:CET
END:STANDARD
END:VTIMEZONE
END:VCALENDAR