BEGIN:VCALENDAR
VERSION:2.0
PRODID:-//wp-events-plugin.com//7.1.7//EN
TZID:Europe/Madrid
X-WR-TIMEZONE:Europe/Madrid
BEGIN:VEVENT
UID:140@asaja.com
DTSTART;TZID=Europe/Madrid:20251003T110000
DTEND;TZID=Europe/Madrid:20251003T133000
DTSTAMP:20251003T064943Z
URL:https://www.asaja.com/eventos/jornada-mano-de-obra-en-el-campo-solucio
 nes-para-el-empleador/
SUMMARY:Jornada Mano de obra en el campo: Soluciones para el empleador
DESCRIPTION:Una jornada con el objetivo de ofrecer \nrespuestas prácticas 
 al agricultor y al ganadero \npara la contratación de mano de obra. 
ATTACH;FMTTYPE=image/jpeg:https://www.asaja.com/wp-content/uploads/2025/10
 /Captura-de-pantalla-2025-10-03-084235.jpg
CATEGORIES:Plurirregional
LOCATION:SEDE DE ASAJA CADIZ\, Av. de la Innovación\, 2\, 11591\,  Jerez d
 e la Frontera\, \, Cádiz\, España
X-APPLE-STRUCTURED-LOCATION;VALUE=URI;X-ADDRESS=Av. de la Innovación\, 2\,
  11591\,  Jerez de la Frontera\, \, Cádiz\, España;X-APPLE-RADIUS=100;X-
 TITLE=SEDE DE ASAJA CADIZ:geo:0,0
END:VEVENT
BEGIN:VTIMEZONE
TZID:Europe/Madrid
X-LIC-LOCATION:Europe/Madrid
BEGIN:DAYLIGHT
DTSTART:20250330T030000
TZOFFSETFROM:+0100
TZOFFSETTO:+0200
TZNAME:CEST
END:DAYLIGHT
END:VTIMEZONE
END:VCALENDAR