BEGIN:VCALENDAR
VERSION:2.0
PRODID:-//wp-events-plugin.com//7.1.7//EN
TZID:Europe/Madrid
X-WR-TIMEZONE:Europe/Madrid
BEGIN:VEVENT
UID:18@asaja.com
DTSTART;TZID=Europe/Madrid:20250610T090000
DTEND;TZID=Europe/Madrid:20250616T140000
DTSTAMP:20250602T122801Z
URL:https://www.asaja.com/eventos/inteligencia-artificial-murcia/
SUMMARY:Curso Inteligencia artificial apliacada a la informática. Nivel b
 ásico
DESCRIPTION:
ATTACH;FMTTYPE=image/jpeg:https://www.asaja.com/wp-content/uploads/2025/05
 /N-15-IA-1-pdf.jpg
CATEGORIES:Plurirregional
LOCATION:Murcia\,  C/ Las Animas esquina con C/ Anaor.\, Murcia\, España
X-APPLE-STRUCTURED-LOCATION;VALUE=URI;X-ADDRESS= C/ Las Animas esquina con 
 C/ Anaor.\, Murcia\, España;X-APPLE-RADIUS=100;X-TITLE=Murcia:geo:0,0
END:VEVENT
BEGIN:VTIMEZONE
TZID:Europe/Madrid
X-LIC-LOCATION:Europe/Madrid
BEGIN:DAYLIGHT
DTSTART:20250330T030000
TZOFFSETFROM:+0100
TZOFFSETTO:+0200
TZNAME:CEST
END:DAYLIGHT
END:VTIMEZONE
END:VCALENDAR