BEGIN:VCALENDAR
VERSION:2.0
PRODID:-//wp-events-plugin.com//7.1.7//EN
TZID:Europe/Madrid
X-WR-TIMEZONE:Europe/Madrid
BEGIN:VEVENT
UID:178@asaja.com
DTSTART;TZID=Europe/Madrid:20251120T150000
DTEND;TZID=Europe/Madrid:20251127T200000
DTSTAMP:20251112T130747Z
URL:https://www.asaja.com/eventos/curso-usuario-profesional-de-productos-f
 itosanitarios-nivel-basico-4/
SUMMARY:Curso usuario profesional de productos fitosanitarios. Nivel básic
 o
DESCRIPTION:Publicado: viernes 07/11
ATTACH;FMTTYPE=image/jpeg:https://www.asaja.com/wp-content/uploads/2025/11
 /N-92-BASICO-CaVALENCIA-pdf.jpg
CATEGORIES:Plurirregional
LOCATION:AVA-ASAJA CASTELLON\, C/ Pandelora\, 5\, Castellón\, España
X-APPLE-STRUCTURED-LOCATION;VALUE=URI;X-ADDRESS=C/ Pandelora\, 5\, Castell
 ón\, España;X-APPLE-RADIUS=100;X-TITLE=AVA-ASAJA CASTELLON:geo:0,0
END:VEVENT
BEGIN:VTIMEZONE
TZID:Europe/Madrid
X-LIC-LOCATION:Europe/Madrid
BEGIN:STANDARD
DTSTART:20251026T020000
TZOFFSETFROM:+0200
TZOFFSETTO:+0100
TZNAME:CET
END:STANDARD
END:VTIMEZONE
END:VCALENDAR