BEGIN:VCALENDAR
VERSION:2.0
PRODID:-//wp-events-plugin.com//7.1.7//EN
TZID:Europe/Madrid
X-WR-TIMEZONE:Europe/Madrid
BEGIN:VEVENT
UID:170@asaja.com
DTSTART;TZID=Europe/Madrid:20251117T150000
DTEND;TZID=Europe/Madrid:20251124T200000
DTSTAMP:20251104T133456Z
URL:https://www.asaja.com/eventos/curso-usuario-profesional-de-productos-f
 itosanitarios-nivel-basico-3/
SUMMARY:Curso usuario profesional de productos fitosanitarios. Nivel Básic
 o
DESCRIPTION:Publicado 07/11
ATTACH;FMTTYPE=image/jpeg:https://www.asaja.com/wp-content/uploads/2025/11
 /N-90-BASICO-VALENCIA-1-pdf.jpg
CATEGORIES:Plurirregional
LOCATION:Espai Cultural de Cerdá\, C/ San Antoni\, 5 \, Cerdá (Valencia)\
 , España
X-APPLE-STRUCTURED-LOCATION;VALUE=URI;X-ADDRESS=C/ San Antoni\, 5 \, Cerdá
  (Valencia)\, España;X-APPLE-RADIUS=100;X-TITLE=Espai Cultural de Cerdá:
 geo:0,0
END:VEVENT
BEGIN:VTIMEZONE
TZID:Europe/Madrid
X-LIC-LOCATION:Europe/Madrid
BEGIN:STANDARD
DTSTART:20251026T020000
TZOFFSETFROM:+0200
TZOFFSETTO:+0100
TZNAME:CET
END:STANDARD
END:VTIMEZONE
END:VCALENDAR