BEGIN:VCALENDAR
VERSION:2.0
PRODID:-//wp-events-plugin.com//7.1.7//EN
TZID:Europe/Madrid
X-WR-TIMEZONE:Europe/Madrid
BEGIN:VEVENT
UID:169@asaja.com
DTSTART;TZID=Europe/Madrid:20251111T150000
DTEND;TZID=Europe/Madrid:20251118T200000
DTSTAMP:20251104T132617Z
URL:https://www.asaja.com/eventos/curso-usuario-profesional-de-productos-f
 itosanitarios-nivel-basico-2/
SUMMARY:Curso usuario profesional de productos fitosanitarios. Nivel básic
 o
DESCRIPTION:Publicado el 31/10
ATTACH;FMTTYPE=image/jpeg:https://www.asaja.com/wp-content/uploads/2025/11
 /N-93-Basico-Alzira-Valencia-pdf.jpg
CATEGORIES:Plurirregional
LOCATION:OFICINA AVA-ALZIRA\, Calle Guerrilleros Romeu nº 33\, Alzira (Val
 encia)\, España
X-APPLE-STRUCTURED-LOCATION;VALUE=URI;X-ADDRESS=Calle Guerrilleros Romeu n
 º 33\, Alzira (Valencia)\, España;X-APPLE-RADIUS=100;X-TITLE=OFICINA AVA
 -ALZIRA:geo:0,0
END:VEVENT
BEGIN:VTIMEZONE
TZID:Europe/Madrid
X-LIC-LOCATION:Europe/Madrid
BEGIN:STANDARD
DTSTART:20251026T020000
TZOFFSETFROM:+0200
TZOFFSETTO:+0100
TZNAME:CET
END:STANDARD
END:VTIMEZONE
END:VCALENDAR