BEGIN:VCALENDAR
VERSION:2.0
PRODID:-//wp-events-plugin.com//7.1.7//EN
TZID:Europe/Madrid
X-WR-TIMEZONE:Europe/Madrid
BEGIN:VEVENT
UID:91@asaja.com
DTSTART;TZID=Europe/Madrid:20250922T090000
DTEND;TZID=Europe/Madrid:20250922T130000
DTSTAMP:20250916T062955Z
URL:https://www.asaja.com/eventos/curso-puente-para-obtener-carnet-cualifi
 cado-2/
SUMMARY:Curso puente\, para obtener carnet cualificado
DESCRIPTION:Inscripción en ASAJA Palencia
ATTACH;FMTTYPE=image/jpeg:https://www.asaja.com/wp-content/uploads/2025/08
 /N-27-CURSO-PUENTE-PARA-OBTENER-CARNET-CUALIFICADO-pdf.jpg
CATEGORIES:Plurirregional
LOCATION:Palencia\, palencia \, palencia \, España
X-APPLE-STRUCTURED-LOCATION;VALUE=URI;X-ADDRESS=palencia \, palencia \, Esp
 aña;X-APPLE-RADIUS=100;X-TITLE=Palencia:geo:0,0
END:VEVENT
BEGIN:VTIMEZONE
TZID:Europe/Madrid
X-LIC-LOCATION:Europe/Madrid
BEGIN:DAYLIGHT
DTSTART:20250330T030000
TZOFFSETFROM:+0100
TZOFFSETTO:+0200
TZNAME:CEST
END:DAYLIGHT
END:VTIMEZONE
END:VCALENDAR