BEGIN:VCALENDAR
VERSION:2.0
PRODID:-//wp-events-plugin.com//7.1.7//EN
TZID:Europe/Madrid
X-WR-TIMEZONE:Europe/Madrid
BEGIN:VEVENT
UID:184@asaja.com
DTSTART;TZID=Europe/Madrid:20251118T160000
DTEND;TZID=Europe/Madrid:20251126T210000
DTSTAMP:20251113T090739Z
URL:https://www.asaja.com/eventos/curso-puente-de-aplicador-de-productos-f
 itosanitarios-de-nivel-basico-a-cualificado/
SUMMARY:Curso puente de aplicador de productos fitosanitarios de Nivel Bás
 ico a Cualificado.
DESCRIPTION:Publicado 07/11
ATTACH;FMTTYPE=image/jpeg:https://www.asaja.com/wp-content/uploads/2025/11
 /N-62-PUENTE-MADRID-pdf.jpg
CATEGORIES:Plurirregional
LOCATION:ASAJA MADRID\, AGUSTÍN DE BETHENCOURT Nº 17 7ª PLANTA\, MADRID\
 , España
X-APPLE-STRUCTURED-LOCATION;VALUE=URI;X-ADDRESS=AGUSTÍN DE BETHENCOURT Nº
  17 7ª PLANTA\, MADRID\, España;X-APPLE-RADIUS=100;X-TITLE=ASAJA MADRID:
 geo:0,0
END:VEVENT
BEGIN:VTIMEZONE
TZID:Europe/Madrid
X-LIC-LOCATION:Europe/Madrid
BEGIN:STANDARD
DTSTART:20251026T020000
TZOFFSETFROM:+0200
TZOFFSETTO:+0100
TZNAME:CET
END:STANDARD
END:VTIMEZONE
END:VCALENDAR