BEGIN:VCALENDAR
VERSION:2.0
PRODID:-//wp-events-plugin.com//7.1.7//EN
TZID:Europe/Madrid
X-WR-TIMEZONE:Europe/Madrid
BEGIN:VEVENT
UID:61@asaja.com
DTSTART;TZID=Europe/Madrid:20250722T094500
DTEND;TZID=Europe/Madrid:20250725T124500
DTSTAMP:20250708T122450Z
URL:https://www.asaja.com/eventos/curso-operador-de-carretillas-elevadoras
 /
SUMMARY:Curso operador de carretillas elevadoras
DESCRIPTION:Inscribete en Asaja Almería
ATTACH;FMTTYPE=image/jpeg:https://www.asaja.com/wp-content/uploads/2025/07
 /N-55-operador-de-carretillas-elevadoras-pdf.jpg
CATEGORIES:Plurirregional
LOCATION:ALMERIA\, LAS CABAÑUELAS\, LAS CABAÑUELAS\, España
X-APPLE-STRUCTURED-LOCATION;VALUE=URI;X-ADDRESS=LAS CABAÑUELAS\, LAS CABA
 ÑUELAS\, España;X-APPLE-RADIUS=100;X-TITLE=ALMERIA:geo:0,0
END:VEVENT
BEGIN:VTIMEZONE
TZID:Europe/Madrid
X-LIC-LOCATION:Europe/Madrid
BEGIN:DAYLIGHT
DTSTART:20250330T030000
TZOFFSETFROM:+0100
TZOFFSETTO:+0200
TZNAME:CEST
END:DAYLIGHT
END:VTIMEZONE
END:VCALENDAR