BEGIN:VCALENDAR
VERSION:2.0
PRODID:-//wp-events-plugin.com//7.1.7//EN
TZID:Europe/Madrid
X-WR-TIMEZONE:Europe/Madrid
BEGIN:VEVENT
UID:113@asaja.com
DTSTART;TZID=Europe/Madrid:20251006T160000
DTEND;TZID=Europe/Madrid:20251006T190000
DTSTAMP:20250916T070731Z
URL:https://www.asaja.com/eventos/curso-operador-de-carretillas-elevadoras
 -2/
SUMMARY:Curso operador de carretillas elevadoras
DESCRIPTION:
ATTACH;FMTTYPE=image/jpeg:https://www.asaja.com/wp-content/uploads/2025/09
 /N-58-ALMERIA-OPERADOR-pdf.jpg
CATEGORIES:Plurirregional
LOCATION:Asaja Almería\,  C/Gerrita\, Nº 12 – Local 2- entrada a las in
 stalaciones  por Carretera la Mojonera\, s/n -que hace esquina con C/Yiyo 
 -04741  \, Cortijos de Marin – Roquetas de Mar (Almería)\, España
X-APPLE-STRUCTURED-LOCATION;VALUE=URI;X-ADDRESS= C/Gerrita\, Nº 12 – Loc
 al 2- entrada a las instalaciones  por Carretera la Mojonera\, s/n -que ha
 ce esquina con C/Yiyo -04741  \, Cortijos de Marin – Roquetas de Mar (Al
 mería)\, España;X-APPLE-RADIUS=100;X-TITLE=Asaja Almería:geo:0,0
END:VEVENT
BEGIN:VTIMEZONE
TZID:Europe/Madrid
X-LIC-LOCATION:Europe/Madrid
BEGIN:DAYLIGHT
DTSTART:20250330T030000
TZOFFSETFROM:+0100
TZOFFSETTO:+0200
TZNAME:CEST
END:DAYLIGHT
END:VTIMEZONE
END:VCALENDAR