BEGIN:VCALENDAR
VERSION:2.0
PRODID:-//wp-events-plugin.com//7.1.7//EN
TZID:Europe/Madrid
X-WR-TIMEZONE:Europe/Madrid
BEGIN:VEVENT
UID:99@asaja.com
DTSTART;TZID=Europe/Madrid:20250915T160000
DTEND;TZID=Europe/Madrid:20250915T210000
DTSTAMP:20250916T062005Z
URL:https://www.asaja.com/eventos/curso-manipulador-de-productos-fitosanit
 arios-nivel-basico-4/
SUMMARY:Curso Manipulador de productos fitosanitarios. Nivel básico
DESCRIPTION:
ATTACH;FMTTYPE=image/jpeg:https://www.asaja.com/wp-content/uploads/2025/09
 /N-31-Manipulador-Basico-Soria-pdf.jpg
CATEGORIES:Plurirregional
LOCATION:ASAJA Soria\, Calle J\, s/n\, P.I. Las Casas\, Soria\, 42005 \, Es
 paña
X-APPLE-STRUCTURED-LOCATION;VALUE=URI;X-ADDRESS=Calle J\, s/n\, P.I. Las Ca
 sas\, Soria\, 42005 \, España;X-APPLE-RADIUS=100;X-TITLE=ASAJA Soria:geo:
 0,0
END:VEVENT
BEGIN:VTIMEZONE
TZID:Europe/Madrid
X-LIC-LOCATION:Europe/Madrid
BEGIN:DAYLIGHT
DTSTART:20250330T030000
TZOFFSETFROM:+0100
TZOFFSETTO:+0200
TZNAME:CEST
END:DAYLIGHT
END:VTIMEZONE
END:VCALENDAR