BEGIN:VCALENDAR
VERSION:2.0
PRODID:-//wp-events-plugin.com//7.1.7//EN
TZID:Europe/Madrid
X-WR-TIMEZONE:Europe/Madrid
BEGIN:VEVENT
UID:93@asaja.com
DTSTART;TZID=Europe/Madrid:20250922T160000
DTEND;TZID=Europe/Madrid:20250922T210000
DTSTAMP:20250916T063014Z
URL:https://www.asaja.com/eventos/curso-manejo-gps/
SUMMARY:Curso manejo GPS
DESCRIPTION:Inscripción en ASAJA Palencia
ATTACH;FMTTYPE=image/jpeg:https://www.asaja.com/wp-content/uploads/2025/08
 /N-29-MANEJO-GPS-pdf.jpg
CATEGORIES:Plurirregional
LOCATION:PALENCIA\, palencia \, PALENCIA \, España
X-APPLE-STRUCTURED-LOCATION;VALUE=URI;X-ADDRESS=palencia \, PALENCIA \, Esp
 aña;X-APPLE-RADIUS=100;X-TITLE=PALENCIA:geo:0,0
END:VEVENT
BEGIN:VTIMEZONE
TZID:Europe/Madrid
X-LIC-LOCATION:Europe/Madrid
BEGIN:DAYLIGHT
DTSTART:20250330T030000
TZOFFSETFROM:+0100
TZOFFSETTO:+0200
TZNAME:CEST
END:DAYLIGHT
END:VTIMEZONE
END:VCALENDAR