BEGIN:VCALENDAR
VERSION:2.0
PRODID:-//wp-events-plugin.com//7.1.7//EN
TZID:Europe/Madrid
X-WR-TIMEZONE:Europe/Madrid
BEGIN:VEVENT
UID:114@asaja.com
DTSTART;TZID=Europe/Madrid:20250929T150000
DTEND;TZID=Europe/Madrid:20250929T200000
DTSTAMP:20250916T071838Z
URL:https://www.asaja.com/eventos/curso-incorporacion-a-la-empresa-agraria
 /
SUMMARY:Curso incorporación a la empresa agraria
DESCRIPTION:
ATTACH;FMTTYPE=image/jpeg:https://www.asaja.com/wp-content/uploads/2025/09
 /N-40-Asturias-Incorporacion-pdf.jpg
CATEGORIES:Plurirregional
LOCATION:Centro de Promoción de Empresas\,  Pl. Curiscada Industrial\, 4\,
  Tineo\, España
X-APPLE-STRUCTURED-LOCATION;VALUE=URI;X-ADDRESS= Pl. Curiscada Industrial\,
  4\, Tineo\, España;X-APPLE-RADIUS=100;X-TITLE=Centro de Promoción de Em
 presas:geo:0,0
END:VEVENT
BEGIN:VTIMEZONE
TZID:Europe/Madrid
X-LIC-LOCATION:Europe/Madrid
BEGIN:DAYLIGHT
DTSTART:20250330T030000
TZOFFSETFROM:+0100
TZOFFSETTO:+0200
TZNAME:CEST
END:DAYLIGHT
END:VTIMEZONE
END:VCALENDAR