BEGIN:VCALENDAR
VERSION:2.0
PRODID:-//wp-events-plugin.com//7.1.7//EN
TZID:Europe/Madrid
X-WR-TIMEZONE:Europe/Madrid
BEGIN:VEVENT
UID:51@asaja.com
DTSTART;TZID=Europe/Madrid:20250708T094500
DTEND;TZID=Europe/Madrid:20250711T124500
DTSTAMP:20250623T121346Z
URL:https://www.asaja.com/eventos/curso-envasado-de-productos-horticolas-e
 n-almacen/
SUMMARY:Curso Envasado de productos hortícolas en almacén
DESCRIPTION:Inscribete en Asaja Almería
ATTACH;FMTTYPE=image/jpeg:https://www.asaja.com/wp-content/uploads/2025/06
 /N-59-almeria-envasado-de-productos-hoticolas-en-almacen-pdf.jpg
CATEGORIES:Plurirregional
LOCATION:almería\, Almeria\, Almería\, Almería\, España
X-APPLE-STRUCTURED-LOCATION;VALUE=URI;X-ADDRESS=Almeria\, Almería\, Almer
 ía\, España;X-APPLE-RADIUS=100;X-TITLE=almería:geo:0,0
END:VEVENT
BEGIN:VTIMEZONE
TZID:Europe/Madrid
X-LIC-LOCATION:Europe/Madrid
BEGIN:DAYLIGHT
DTSTART:20250330T030000
TZOFFSETFROM:+0100
TZOFFSETTO:+0200
TZNAME:CEST
END:DAYLIGHT
END:VTIMEZONE
END:VCALENDAR