BEGIN:VCALENDAR
VERSION:2.0
PRODID:-//wp-events-plugin.com//7.1.7//EN
TZID:Europe/Madrid
X-WR-TIMEZONE:Europe/Madrid
BEGIN:VEVENT
UID:157@asaja.com
DTSTART;TZID=Europe/Madrid:20251103T150000
DTEND;TZID=Europe/Madrid:20251103T200000
DTSTAMP:20251022T103510Z
URL:https://www.asaja.com/eventos/curso-de-usuario-profesional-de-producto
 s-fitosanitarios/
SUMMARY:Curso de usuario profesional de productos fitosanitarios
DESCRIPTION:Fecha de publicación: 22/10
ATTACH;FMTTYPE=image/jpeg:https://www.asaja.com/wp-content/uploads/2025/10
 /N-97-FITO-CUALIFI-VALENCIA-pdf.jpg
CATEGORIES:Plurirregional
LOCATION:IES gregori marians\, gabriel miro 13\, Oliva\, España
X-APPLE-STRUCTURED-LOCATION;VALUE=URI;X-ADDRESS=gabriel miro 13\, Oliva\, E
 spaña;X-APPLE-RADIUS=100;X-TITLE=IES gregori marians:geo:0,0
END:VEVENT
BEGIN:VTIMEZONE
TZID:Europe/Madrid
X-LIC-LOCATION:Europe/Madrid
BEGIN:STANDARD
DTSTART:20251026T020000
TZOFFSETFROM:+0200
TZOFFSETTO:+0100
TZNAME:CET
END:STANDARD
END:VTIMEZONE
END:VCALENDAR