BEGIN:VCALENDAR
VERSION:2.0
PRODID:-//wp-events-plugin.com//7.1.7//EN
TZID:Europe/Madrid
X-WR-TIMEZONE:Europe/Madrid
BEGIN:VEVENT
UID:167@asaja.com
DTSTART;TZID=Europe/Madrid:20251110T170000
DTEND;TZID=Europe/Madrid:20251117T210000
DTSTAMP:20251104T115805Z
URL:https://www.asaja.com/eventos/curso-de-plaguicidas-de-uso-ganadero-niv
 el-basico-2/
SUMMARY:Curso de plaguicidas de uso ganadero. Nivel básico
DESCRIPTION:Publicado 30/10
ATTACH;FMTTYPE=image/jpeg:https://www.asaja.com/wp-content/uploads/2025/11
 /N-84-USO-GANADERO-BADAJOZ-pdf.jpg
CATEGORIES:Plurirregional
LOCATION:AULA DE FORMACIÓN DE LA FINCA VALHONDO.\, CTRA ZAFRA-LA LAPA KM 1
 \, ZAFRA (BADAJOZ)\, España
X-APPLE-STRUCTURED-LOCATION;VALUE=URI;X-ADDRESS=CTRA ZAFRA-LA LAPA KM 1\, Z
 AFRA (BADAJOZ)\, España;X-APPLE-RADIUS=100;X-TITLE=AULA DE FORMACIÓN DE 
 LA FINCA VALHONDO.:geo:0,0
END:VEVENT
BEGIN:VTIMEZONE
TZID:Europe/Madrid
X-LIC-LOCATION:Europe/Madrid
BEGIN:STANDARD
DTSTART:20251026T020000
TZOFFSETFROM:+0200
TZOFFSETTO:+0100
TZNAME:CET
END:STANDARD
END:VTIMEZONE
END:VCALENDAR