BEGIN:VCALENDAR
VERSION:2.0
PRODID:-//wp-events-plugin.com//7.1.7//EN
TZID:Europe/Madrid
X-WR-TIMEZONE:Europe/Madrid
BEGIN:VEVENT
UID:116@asaja.com
DTSTART;TZID=Europe/Madrid:20251020T170000
DTEND;TZID=Europe/Madrid:20251020T210000
DTSTAMP:20250923T111507Z
URL:https://www.asaja.com/eventos/curso-de-plaguicidas-de-uso-agrario-nive
 l-basico-2/
SUMMARY:Curso de plaguicidas de uso agrario. Nivel básico
DESCRIPTION:
ATTACH;FMTTYPE=image/jpeg:https://www.asaja.com/wp-content/uploads/2025/09
 /N-101-CACERES-BASICO-MODI-FECHAS-pdf.jpg
CATEGORIES:Plurirregional
LOCATION:centro agrario de ASAJA Cáceres\, avda. rodríguez de ledesma\, c
 áceres\, España
X-APPLE-STRUCTURED-LOCATION;VALUE=URI;X-ADDRESS=avda. rodríguez de ledesma
 \, cáceres\, España;X-APPLE-RADIUS=100;X-TITLE=centro agrario de ASAJA C
 áceres:geo:0,0
END:VEVENT
BEGIN:VTIMEZONE
TZID:Europe/Madrid
X-LIC-LOCATION:Europe/Madrid
BEGIN:DAYLIGHT
DTSTART:20250330T030000
TZOFFSETFROM:+0100
TZOFFSETTO:+0200
TZNAME:CEST
END:DAYLIGHT
END:VTIMEZONE
END:VCALENDAR