BEGIN:VCALENDAR
VERSION:2.0
PRODID:-//wp-events-plugin.com//7.1.7//EN
TZID:Europe/Madrid
X-WR-TIMEZONE:Europe/Madrid
BEGIN:VEVENT
UID:102@asaja.com
DTSTART;TZID=Europe/Madrid:20250922T090000
DTEND;TZID=Europe/Madrid:20250922T140000
DTSTAMP:20250917T082402Z
URL:https://www.asaja.com/eventos/curso-de-manipulador-de-productos-fitosa
 nitarios-nivel-puente-cualificado/
SUMMARY:Curso de manipulador de productos fitosanitarios. Nivel puente cual
 ificado
DESCRIPTION:Fecha de publicación: 17 de septiembre de 2025
ATTACH;FMTTYPE=image/jpeg:https://www.asaja.com/wp-content/uploads/2025/09
 /N-30-Manipulador-Puente-Soria-pdf.jpg
CATEGORIES:Plurirregional
LOCATION:AULA FORMACIÓN CÁMARA DE COMERCIO E INDUSTRIA DE  SORIA\, C/ Ven
 erable Carabantes 1C\, (acceso directo por C/ Beato Julián de San Agustí
 n)\, Soria\, 42003 \, España
X-APPLE-STRUCTURED-LOCATION;VALUE=URI;X-ADDRESS=C/ Venerable Carabantes 1C\
 , (acceso directo por C/ Beato Julián de San Agustín)\, Soria\, 42003 \,
  España;X-APPLE-RADIUS=100;X-TITLE=AULA FORMACIÓN CÁMARA DE COMERCIO E 
 INDUSTRIA DE  SORIA:geo:0,0
END:VEVENT
BEGIN:VTIMEZONE
TZID:Europe/Madrid
X-LIC-LOCATION:Europe/Madrid
BEGIN:DAYLIGHT
DTSTART:20250330T030000
TZOFFSETFROM:+0100
TZOFFSETTO:+0200
TZNAME:CEST
END:DAYLIGHT
END:VTIMEZONE
END:VCALENDAR