BEGIN:VCALENDAR
VERSION:2.0
PRODID:-//wp-events-plugin.com//7.1.7//EN
TZID:Europe/Madrid
X-WR-TIMEZONE:Europe/Madrid
BEGIN:VEVENT
UID:186@asaja.com
DTSTART;TZID=Europe/Madrid:20251119T163000
DTEND;TZID=Europe/Madrid:20251126T203000
DTSTAMP:20251113T104508Z
URL:https://www.asaja.com/eventos/curso-de-manipulador-de-productos-fitosa
 nitarios-nivel-basico-4/
SUMMARY:Curso de manipulador de productos fitosanitarios. Nivel básico
DESCRIPTION:
ATTACH;FMTTYPE=image/jpeg:https://www.asaja.com/wp-content/uploads/2025/11
 /N-33-BASICO-SEGOVIA-pdf.jpg
CATEGORIES:Plurirregional
LOCATION:Campo Segoviano 2\, Paraje el Plantio.\, Valverde del Majano \, SE
 GOVIA\, España
X-APPLE-STRUCTURED-LOCATION;VALUE=URI;X-ADDRESS=Valverde del Majano \, SEGO
 VIA\, España;X-APPLE-RADIUS=100;X-TITLE=Campo Segoviano 2\, Paraje el Pla
 ntio.:geo:0,0
END:VEVENT
BEGIN:VTIMEZONE
TZID:Europe/Madrid
X-LIC-LOCATION:Europe/Madrid
BEGIN:STANDARD
DTSTART:20251026T020000
TZOFFSETFROM:+0200
TZOFFSETTO:+0100
TZNAME:CET
END:STANDARD
END:VTIMEZONE
END:VCALENDAR