BEGIN:VCALENDAR
VERSION:2.0
PRODID:-//wp-events-plugin.com//7.1.7//EN
TZID:Europe/Madrid
X-WR-TIMEZONE:Europe/Madrid
BEGIN:VEVENT
UID:185@asaja.com
DTSTART;TZID=Europe/Madrid:20251117T100000
DTEND;TZID=Europe/Madrid:20251121T150000
DTSTAMP:20251113T103147Z
URL:https://www.asaja.com/eventos/curso-de-manipulador-de-productos-fitosa
 nitarios-nivel-basico-3/
SUMMARY:Curso de manipulador de productos fitosanitarios. Nivel básico
DESCRIPTION:Publicado 6/11
ATTACH;FMTTYPE=image/jpeg:https://www.asaja.com/wp-content/uploads/2025/11
 /N-37-BASICO-CANTABRIA-pdf.jpg
CATEGORIES:Plurirregional
LOCATION:SALON DE ACTOS DE ASAJA CANTABRIA\, AVDA OVIEDO 20 BLOQUE 20 A \, 
 SOLARES CANTABRIA\, España
X-APPLE-STRUCTURED-LOCATION;VALUE=URI;X-ADDRESS=AVDA OVIEDO 20 BLOQUE 20 A 
 \, SOLARES CANTABRIA\, España;X-APPLE-RADIUS=100;X-TITLE=SALON DE ACTOS D
 E ASAJA CANTABRIA:geo:0,0
END:VEVENT
BEGIN:VTIMEZONE
TZID:Europe/Madrid
X-LIC-LOCATION:Europe/Madrid
BEGIN:STANDARD
DTSTART:20251026T020000
TZOFFSETFROM:+0200
TZOFFSETTO:+0100
TZNAME:CET
END:STANDARD
END:VTIMEZONE
END:VCALENDAR