BEGIN:VCALENDAR
VERSION:2.0
PRODID:-//wp-events-plugin.com//7.1.7//EN
TZID:Europe/Madrid
X-WR-TIMEZONE:Europe/Madrid
BEGIN:VEVENT
UID:179@asaja.com
DTSTART;TZID=Europe/Madrid:20251106T150000
DTEND;TZID=Europe/Madrid:20251203T220000
DTSTAMP:20251112T125054Z
URL:https://www.asaja.com/eventos/curso-de-manipulador-de-productos-fitosa
 nitarios-nivel-basico-2/
SUMMARY:Curso de manipulador de productos fitosanitarios. Nivel Básico
DESCRIPTION:Publicado: 27/10
ATTACH;FMTTYPE=image/jpeg:https://www.asaja.com/wp-content/uploads/2025/11
 /N-41-BASICO-ASTURIAS-pdf.jpg
CATEGORIES:Plurirregional
LOCATION:Agencia de Desarrollo Local\, Centro de promoción empresarial. Po
 lígono Industrial La Curiscada \, Tineo (Asturias)\, España
X-APPLE-STRUCTURED-LOCATION;VALUE=URI;X-ADDRESS=Centro de promoción empres
 arial. Polígono Industrial La Curiscada \, Tineo (Asturias)\, España;X-A
 PPLE-RADIUS=100;X-TITLE=Agencia de Desarrollo Local:geo:0,0
END:VEVENT
BEGIN:VTIMEZONE
TZID:Europe/Madrid
X-LIC-LOCATION:Europe/Madrid
BEGIN:STANDARD
DTSTART:20251026T020000
TZOFFSETFROM:+0200
TZOFFSETTO:+0100
TZNAME:CET
END:STANDARD
END:VTIMEZONE
END:VCALENDAR