BEGIN:VCALENDAR
VERSION:2.0
PRODID:-//wp-events-plugin.com//7.1.7//EN
TZID:Europe/Madrid
X-WR-TIMEZONE:Europe/Madrid
BEGIN:VEVENT
UID:132@asaja.com
DTSTART;TZID=Europe/Madrid:20251006T160000
DTEND;TZID=Europe/Madrid:20251006T210000
DTSTAMP:20250929T111515Z
URL:https://www.asaja.com/eventos/curso-de-inteligencia-artificial-aplicad
 a-a-la-informatica-nivel-basico/
SUMMARY:Curso de Inteligencia Artificial aplicada a la informática. Nivel 
 básico
DESCRIPTION:Fecha de publicación: 29/09/2025
ATTACH;FMTTYPE=image/jpeg:https://www.asaja.com/wp-content/uploads/2025/09
 /N-63-LA-IA-APLICADA-A-LA-INFORMATICA-Murcia-pdf.jpg
CATEGORIES:Plurirregional
LOCATION:Centro de ocio Juan Martínez Julián\, Avda. Concejal Mariano Hen
 arejo\, s/n. \, San Pedro del Pinatar\, España
X-APPLE-STRUCTURED-LOCATION;VALUE=URI;X-ADDRESS=Avda. Concejal Mariano Hena
 rejo\, s/n. \, San Pedro del Pinatar\, España;X-APPLE-RADIUS=100;X-TITLE=
 Centro de ocio Juan Martínez Julián:geo:0,0
END:VEVENT
BEGIN:VTIMEZONE
TZID:Europe/Madrid
X-LIC-LOCATION:Europe/Madrid
BEGIN:DAYLIGHT
DTSTART:20250330T030000
TZOFFSETFROM:+0100
TZOFFSETTO:+0200
TZNAME:CEST
END:DAYLIGHT
END:VTIMEZONE
END:VCALENDAR