BEGIN:VCALENDAR
VERSION:2.0
PRODID:-//wp-events-plugin.com//7.1.7//EN
TZID:Europe/Madrid
X-WR-TIMEZONE:Europe/Madrid
BEGIN:VEVENT
UID:120@asaja.com
DTSTART;TZID=Europe/Madrid:20251104T094500
DTEND;TZID=Europe/Madrid:20251104T133000
DTSTAMP:20250917T085305Z
URL:https://www.asaja.com/eventos/curso-de-injertos-en-los-cultivos-hortic
 olas/
SUMMARY:Curso de injertos en los cultivos hortícolas
DESCRIPTION:Fecha de publicación: 17 de septiembre de 2025
ATTACH;FMTTYPE=image/jpeg:https://www.asaja.com/wp-content/uploads/2025/09
 /N-54-INJERTO-EN-CULTI-HORT-ALMERIA-pdf.jpg
CATEGORIES:Plurirregional
LOCATION:Asaja Almería\,  C/Gerrita\, Nº 12 – Local 2- entrada a las in
 stalaciones  por Carretera la Mojonera\, s/n -que hace esquina con C/Yiyo 
 -04741  \, Cortijos de Marin – Roquetas de Mar (Almería)\, España
X-APPLE-STRUCTURED-LOCATION;VALUE=URI;X-ADDRESS= C/Gerrita\, Nº 12 – Loc
 al 2- entrada a las instalaciones  por Carretera la Mojonera\, s/n -que ha
 ce esquina con C/Yiyo -04741  \, Cortijos de Marin – Roquetas de Mar (Al
 mería)\, España;X-APPLE-RADIUS=100;X-TITLE=Asaja Almería:geo:0,0
END:VEVENT
BEGIN:VTIMEZONE
TZID:Europe/Madrid
X-LIC-LOCATION:Europe/Madrid
BEGIN:STANDARD
DTSTART:20251026T020000
TZOFFSETFROM:+0200
TZOFFSETTO:+0100
TZNAME:CET
END:STANDARD
END:VTIMEZONE
END:VCALENDAR