BEGIN:VCALENDAR
VERSION:2.0
PRODID:-//wp-events-plugin.com//7.1.7//EN
TZID:Europe/Madrid
X-WR-TIMEZONE:Europe/Madrid
BEGIN:VEVENT
UID:133@asaja.com
DTSTART;TZID=Europe/Madrid:20251015T160000
DTEND;TZID=Europe/Madrid:20251015T210000
DTSTAMP:20251013T112122Z
URL:https://www.asaja.com/eventos/curso-de-competencias-digitales-y-firma-
 electronica/
SUMMARY:Curso de competencias digitales y firma electrónica
DESCRIPTION:Fecha de publicación: 29/09/2025
ATTACH;FMTTYPE=image/jpeg:https://www.asaja.com/wp-content/uploads/2025/09
 /N-64-COMPETENCIAS-DIGITALES.-FIRMA-NUEVAS-FECHAS-Murcia-pdf.jpg
CATEGORIES:Plurirregional
LOCATION:Centro de ocio Juan Martínez Julián\, Avda. Concejal Mariano Hen
 arejo\, s/n. \, San Pedro del Pinatar\, España
X-APPLE-STRUCTURED-LOCATION;VALUE=URI;X-ADDRESS=Avda. Concejal Mariano Hena
 rejo\, s/n. \, San Pedro del Pinatar\, España;X-APPLE-RADIUS=100;X-TITLE=
 Centro de ocio Juan Martínez Julián:geo:0,0
END:VEVENT
BEGIN:VTIMEZONE
TZID:Europe/Madrid
X-LIC-LOCATION:Europe/Madrid
BEGIN:DAYLIGHT
DTSTART:20250330T030000
TZOFFSETFROM:+0100
TZOFFSETTO:+0200
TZNAME:CEST
END:DAYLIGHT
END:VTIMEZONE
END:VCALENDAR