BEGIN:VCALENDAR
VERSION:2.0
PRODID:-//wp-events-plugin.com//7.1.7//EN
TZID:Europe/Madrid
X-WR-TIMEZONE:Europe/Madrid
BEGIN:VEVENT
UID:183@asaja.com
DTSTART;TZID=Europe/Madrid:20251117T160000
DTEND;TZID=Europe/Madrid:20251202T210000
DTSTAMP:20251113T084938Z
URL:https://www.asaja.com/eventos/curso-de-aplicador-de-productos-fitosani
 tarios-nivel-cualificado-3/
SUMMARY:Curso de aplicador de productos fitosanitarios. Nivel Cualificado
DESCRIPTION:Publicado: 6/11
ATTACH;FMTTYPE=image/jpeg:https://www.asaja.com/wp-content/uploads/2025/11
 /N-60-CUALIFICADO-MADRID-pdf.jpg
CATEGORIES:Plurirregional
LOCATION:Avenida Ramón y Cajal Nº 5 TALLER 4 PLANTA\, San Sebastian de lo
 s Reyes\, Madrid\, España
X-APPLE-STRUCTURED-LOCATION;VALUE=URI;X-ADDRESS=San Sebastian de los Reyes\
 , Madrid\, España;X-APPLE-RADIUS=100;X-TITLE=Avenida Ramón y Cajal Nº 5
  TALLER 4 PLANTA:geo:0,0
END:VEVENT
BEGIN:VTIMEZONE
TZID:Europe/Madrid
X-LIC-LOCATION:Europe/Madrid
BEGIN:STANDARD
DTSTART:20251026T020000
TZOFFSETFROM:+0200
TZOFFSETTO:+0100
TZNAME:CET
END:STANDARD
END:VTIMEZONE
END:VCALENDAR