BEGIN:VCALENDAR
VERSION:2.0
PRODID:-//wp-events-plugin.com//7.1.7//EN
TZID:Europe/Madrid
X-WR-TIMEZONE:Europe/Madrid
BEGIN:VEVENT
UID:181@asaja.com
DTSTART;TZID=Europe/Madrid:20251117T163000
DTEND;TZID=Europe/Madrid:20251205T203000
DTSTAMP:20251112T133311Z
URL:https://www.asaja.com/eventos/curso-de-aplicador-de-productos-fitosani
 tarios-nivel-cualificado-2/
SUMMARY:Curso de aplicador de productos fitosanitarios. Nivel Cualificado
DESCRIPTION:Publicado: 7/11
ATTACH;FMTTYPE=image/jpeg:https://www.asaja.com/wp-content/uploads/2025/11
 /N-71-CUALIFICADO-SEVILLA-pdf.jpg
CATEGORIES:Plurirregional
LOCATION:Centro Ocupacional Municipal\, Avda de la Maternidad Nº 19 Montel
 lano\, Sevilla \, España
X-APPLE-STRUCTURED-LOCATION;VALUE=URI;X-ADDRESS=Avda de la Maternidad Nº 1
 9 Montellano\, Sevilla \, España;X-APPLE-RADIUS=100;X-TITLE=Centro Ocupac
 ional Municipal:geo:0,0
END:VEVENT
BEGIN:VTIMEZONE
TZID:Europe/Madrid
X-LIC-LOCATION:Europe/Madrid
BEGIN:STANDARD
DTSTART:20251026T020000
TZOFFSETFROM:+0200
TZOFFSETTO:+0100
TZNAME:CET
END:STANDARD
END:VTIMEZONE
END:VCALENDAR