BEGIN:VCALENDAR
VERSION:2.0
PRODID:-//wp-events-plugin.com//7.1.7//EN
TZID:Europe/Madrid
X-WR-TIMEZONE:Europe/Madrid
BEGIN:VEVENT
UID:138@asaja.com
DTSTART;TZID=Europe/Madrid:20251024T090000
DTEND;TZID=Europe/Madrid:20251024T140000
DTSTAMP:20250930T075649Z
URL:https://www.asaja.com/eventos/curso-de-alfabetizacion-informatica-2/
SUMMARY:Curso de alfabetización informática
DESCRIPTION:Fecha de publicación: 30/09/2025
ATTACH;FMTTYPE=image/jpeg:https://www.asaja.com/wp-content/uploads/2025/09
 /N-66-MURCIA-1-pdf.jpg
CATEGORIES:Plurirregional
LOCATION:Centro de desarrollo local la encomienda.\,  C/ La Encomienda. S/N
 . \, Abanilla. Murcia.\, España
X-APPLE-STRUCTURED-LOCATION;VALUE=URI;X-ADDRESS= C/ La Encomienda. S/N. \, 
 Abanilla. Murcia.\, España;X-APPLE-RADIUS=100;X-TITLE=Centro de desarroll
 o local la encomienda.:geo:0,0
END:VEVENT
BEGIN:VTIMEZONE
TZID:Europe/Madrid
X-LIC-LOCATION:Europe/Madrid
BEGIN:DAYLIGHT
DTSTART:20250330T030000
TZOFFSETFROM:+0100
TZOFFSETTO:+0200
TZNAME:CEST
END:DAYLIGHT
END:VTIMEZONE
END:VCALENDAR