BEGIN:VCALENDAR
VERSION:2.0
PRODID:-//wp-events-plugin.com//7.1.7//EN
TZID:Europe/Madrid
X-WR-TIMEZONE:Europe/Madrid
BEGIN:VEVENT
UID:117@asaja.com
DTSTART;TZID=Europe/Madrid:20251103T163000
DTEND;TZID=Europe/Madrid:20251103T203000
DTSTAMP:20250916T074028Z
URL:https://www.asaja.com/eventos/curso-bienestar-animal-transportista/
SUMMARY:Curso bienestar animal. Transportista
DESCRIPTION:
ATTACH;FMTTYPE=image/jpeg:https://www.asaja.com/wp-content/uploads/2025/09
 /N-74-CACERES-BIENESTAR-pdf.jpg
CATEGORIES:Plurirregional
LOCATION:centro agrario de ASAJA Cáceres\, avda. rodríguez de ledesma\, c
 áceres\, España
X-APPLE-STRUCTURED-LOCATION;VALUE=URI;X-ADDRESS=avda. rodríguez de ledesma
 \, cáceres\, España;X-APPLE-RADIUS=100;X-TITLE=centro agrario de ASAJA C
 áceres:geo:0,0
END:VEVENT
BEGIN:VTIMEZONE
TZID:Europe/Madrid
X-LIC-LOCATION:Europe/Madrid
BEGIN:STANDARD
DTSTART:20251026T020000
TZOFFSETFROM:+0200
TZOFFSETTO:+0100
TZNAME:CET
END:STANDARD
END:VTIMEZONE
END:VCALENDAR