BEGIN:VCALENDAR
VERSION:2.0
PRODID:-//wp-events-plugin.com//7.1.7//EN
TZID:Europe/Madrid
X-WR-TIMEZONE:Europe/Madrid
BEGIN:VEVENT
UID:155@asaja.com
DTSTART;TZID=Europe/Madrid:20251103T170000
DTEND;TZID=Europe/Madrid:20251107T210000
DTSTAMP:20251022T101139Z
URL:https://www.asaja.com/eventos/curso-bienestar-animal-transportista-3/
SUMMARY:Curso Bienestar Animal. Transportista
DESCRIPTION:Fecha de publicación 15/10
ATTACH;FMTTYPE=image/jpeg:https://www.asaja.com/wp-content/uploads/2025/10
 /N-79-BIENESTAR-BADAJOZ-pdf.jpg
CATEGORIES:Plurirregional
LOCATION:UNIVERSIDAD POPULAR\, C/ CUARTEL\, S/N 06660\, FUENLABRADA DE LOS 
 MONTES\, España
X-APPLE-STRUCTURED-LOCATION;VALUE=URI;X-ADDRESS=C/ CUARTEL\, S/N 06660\, FU
 ENLABRADA DE LOS MONTES\, España;X-APPLE-RADIUS=100;X-TITLE=UNIVERSIDAD P
 OPULAR:geo:0,0
END:VEVENT
BEGIN:VTIMEZONE
TZID:Europe/Madrid
X-LIC-LOCATION:Europe/Madrid
BEGIN:STANDARD
DTSTART:20251026T020000
TZOFFSETFROM:+0200
TZOFFSETTO:+0100
TZNAME:CET
END:STANDARD
END:VTIMEZONE
END:VCALENDAR