BEGIN:VCALENDAR
VERSION:2.0
PRODID:-//wp-events-plugin.com//7.1.7//EN
TZID:Europe/Madrid
X-WR-TIMEZONE:Europe/Madrid
BEGIN:VEVENT
UID:55@asaja.com
DTSTART;TZID=Europe/Madrid:20250711T160000
DTEND;TZID=Europe/Madrid:20250728T210000
DTSTAMP:20250701T081110Z
URL:https://www.asaja.com/eventos/curso-aplicador-de-productos-fitosanitar
 ios-nivel-cualificado/
SUMMARY:Curso aplicador de productos fitosanitarios. Nivel cualificado.
DESCRIPTION:Inscribete en Asaja Málaga
ATTACH;FMTTYPE=image/jpeg:https://www.asaja.com/wp-content/uploads/2025/07
 /N-19-MALAGA-APLICADOR-DE-PRODUCTOS-FITOSANITARIOS-pdf.jpg
CATEGORIES:Plurirregional
END:VEVENT
BEGIN:VTIMEZONE
TZID:Europe/Madrid
X-LIC-LOCATION:Europe/Madrid
BEGIN:DAYLIGHT
DTSTART:20250330T030000
TZOFFSETFROM:+0100
TZOFFSETTO:+0200
TZNAME:CEST
END:DAYLIGHT
END:VTIMEZONE
END:VCALENDAR