BEGIN:VCALENDAR
VERSION:2.0
PRODID:-//wp-events-plugin.com//7.1.7//EN
TZID:Europe/Madrid
X-WR-TIMEZONE:Europe/Madrid
BEGIN:VEVENT
UID:124@asaja.com
DTSTART;TZID=Europe/Madrid:20251001T160000
DTEND;TZID=Europe/Madrid:20251001T210000
DTSTAMP:20251104T103643Z
URL:https://www.asaja.com/eventos/curso-aplicador-de-productos-fitosanitar
 ios-nivel-cualificado-5/
SUMMARY:Curso aplicador de productos fitosanitarios. Nivel Cualificado
DESCRIPTION:Fecha de publicación: 19 de septiembre de 2025
ATTACH;FMTTYPE=image/jpeg:https://www.asaja.com/wp-content/uploads/2025/09
 /N-70-CUALIFICADO-MALAGA-1-pdf.jpg
CATEGORIES:Plurirregional
LOCATION:Centro de formación Francisco Romero\, Calle Eugenio Chicano\, Ca
 rtama\, España
X-APPLE-STRUCTURED-LOCATION;VALUE=URI;X-ADDRESS=Calle Eugenio Chicano\, Car
 tama\, España;X-APPLE-RADIUS=100;X-TITLE=Centro de formación Francisco R
 omero:geo:0,0
END:VEVENT
BEGIN:VTIMEZONE
TZID:Europe/Madrid
X-LIC-LOCATION:Europe/Madrid
BEGIN:DAYLIGHT
DTSTART:20250330T030000
TZOFFSETFROM:+0100
TZOFFSETTO:+0200
TZNAME:CEST
END:DAYLIGHT
END:VTIMEZONE
END:VCALENDAR