BEGIN:VCALENDAR
VERSION:2.0
PRODID:-//wp-events-plugin.com//7.1.7//EN
TZID:Europe/Madrid
X-WR-TIMEZONE:Europe/Madrid
BEGIN:VEVENT
UID:67@asaja.com
DTSTART;TZID=Europe/Madrid:20250728T093000
DTEND;TZID=Europe/Madrid:20250802T133000
DTSTAMP:20250716T105318Z
URL:https://www.asaja.com/eventos/curso-aplicador-de-plaguicidas/
SUMMARY:Curso aplicador de plaguicidas
DESCRIPTION:Inscribete en ASAJA Almería
ATTACH;FMTTYPE=image/jpeg:https://www.asaja.com/wp-content/uploads/2025/07
 /N-56-ALMERIA-APLICADOR-DE-PLAGUICIDAS-pdf.jpg
CATEGORIES:Plurirregional
LOCATION:ALMERIA\, LAS CABAÑUELAS\, LAS CABAÑUELAS\, España
X-APPLE-STRUCTURED-LOCATION;VALUE=URI;X-ADDRESS=LAS CABAÑUELAS\, LAS CABA
 ÑUELAS\, España;X-APPLE-RADIUS=100;X-TITLE=ALMERIA:geo:0,0
END:VEVENT
BEGIN:VTIMEZONE
TZID:Europe/Madrid
X-LIC-LOCATION:Europe/Madrid
BEGIN:DAYLIGHT
DTSTART:20250330T030000
TZOFFSETFROM:+0100
TZOFFSETTO:+0200
TZNAME:CEST
END:DAYLIGHT
END:VTIMEZONE
END:VCALENDAR