BEGIN:VCALENDAR
VERSION:2.0
PRODID:-//wp-events-plugin.com//7.1.7//EN
TZID:Europe/Madrid
X-WR-TIMEZONE:Europe/Madrid
BEGIN:VEVENT
UID:70@asaja.com
DTSTART;TZID=Europe/Madrid:20250909T160000
DTEND;TZID=Europe/Madrid:20250909T210000
DTSTAMP:20250916T061918Z
URL:https://www.asaja.com/eventos/curso-aplicador-de-biocidas-para-la-higi
 ene-veterinaria-nivel-cualificado/
SUMMARY:Curso aplicador de biocidas para la higiene veterinaria. Nivel cual
 ificado.
DESCRIPTION:Inscríbete en ASAJA Huelva
ATTACH;FMTTYPE=image/jpeg:https://www.asaja.com/wp-content/uploads/2025/07
 /N-47-APLICADOR-DE-BIOCIDAS-PARA-LA-HIGIENE-VETERINARIA-pdf.jpg
CATEGORIES:Plurirregional
LOCATION:Huelva\, Huelva\, Huelva\, España
X-APPLE-STRUCTURED-LOCATION;VALUE=URI;X-ADDRESS=Huelva\, Huelva\, España;X
 -APPLE-RADIUS=100;X-TITLE=Huelva:geo:0,0
END:VEVENT
BEGIN:VTIMEZONE
TZID:Europe/Madrid
X-LIC-LOCATION:Europe/Madrid
BEGIN:DAYLIGHT
DTSTART:20250330T030000
TZOFFSETFROM:+0100
TZOFFSETTO:+0200
TZNAME:CEST
END:DAYLIGHT
END:VTIMEZONE
END:VCALENDAR