BEGIN:VCALENDAR
VERSION:2.0
PRODID:-//wp-events-plugin.com//7.1.7//EN
TZID:Europe/Madrid
X-WR-TIMEZONE:Europe/Madrid
BEGIN:VEVENT
UID:19@asaja.com
DTSTART;TZID=Europe/Madrid:20250623T090000
DTEND;TZID=Europe/Madrid:20250623T140000
DTSTAMP:20250619T065836Z
URL:https://www.asaja.com/eventos/competencias-digitales-firma-electronica
 -2/
SUMMARY:Competencias digitales: Firma electrónica
DESCRIPTION:\nInscribete en Asaja Murcia
ATTACH;FMTTYPE=image/jpeg:https://www.asaja.com/wp-content/uploads/2025/05
 /Captura-de-pantalla-2025-05-22-143936.png
CATEGORIES:Plurirregional
LOCATION:Murcia\,  C/ Las Animas esquina con C/ Anaor.\, Murcia\, España
X-APPLE-STRUCTURED-LOCATION;VALUE=URI;X-ADDRESS= C/ Las Animas esquina con 
 C/ Anaor.\, Murcia\, España;X-APPLE-RADIUS=100;X-TITLE=Murcia:geo:0,0
END:VEVENT
BEGIN:VTIMEZONE
TZID:Europe/Madrid
X-LIC-LOCATION:Europe/Madrid
BEGIN:DAYLIGHT
DTSTART:20250330T030000
TZOFFSETFROM:+0100
TZOFFSETTO:+0200
TZNAME:CEST
END:DAYLIGHT
END:VTIMEZONE
END:VCALENDAR