BEGIN:VCALENDAR
VERSION:2.0
PRODID:-//wp-events-plugin.com//7.1.7//EN
TZID:Europe/Madrid
X-WR-TIMEZONE:Europe/Madrid
BEGIN:VEVENT
UID:156@asaja.com
DTSTART;TZID=Europe/Madrid:20251103T160000
DTEND;TZID=Europe/Madrid:20251103T200000
DTSTAMP:20251022T102323Z
URL:https://www.asaja.com/eventos/bienestar-animal-en-el-transporte-de-ani
 males-vivos/
SUMMARY:Bienestar animal en el transporte de animales vivos
DESCRIPTION:Fecha publicación: 15/10
ATTACH;FMTTYPE=image/jpeg:https://www.asaja.com/wp-content/uploads/2025/10
 /N-04-BIENESTAR-ANIMAL-pdf.jpg
CATEGORIES:Plurirregional
LOCATION:antiguo salón de plenos\, Glorieta de Veracruz nº3\, Navalcarner
 o\, España
X-APPLE-STRUCTURED-LOCATION;VALUE=URI;X-ADDRESS=Glorieta de Veracruz nº3\,
  Navalcarnero\, España;X-APPLE-RADIUS=100;X-TITLE=antiguo salón de pleno
 s:geo:0,0
END:VEVENT
BEGIN:VTIMEZONE
TZID:Europe/Madrid
X-LIC-LOCATION:Europe/Madrid
BEGIN:STANDARD
DTSTART:20251026T020000
TZOFFSETFROM:+0200
TZOFFSETTO:+0100
TZNAME:CET
END:STANDARD
END:VTIMEZONE
END:VCALENDAR