BEGIN:VCALENDAR
VERSION:2.0
PRODID:-//wp-events-plugin.com//7.1.7//EN
TZID:Europe/Madrid
X-WR-TIMEZONE:Europe/Madrid
BEGIN:VEVENT
UID:53@asaja.com
DTSTART;TZID=Europe/Madrid:20250626T110000
DTEND;TZID=Europe/Madrid:20250626T110000
DTSTAMP:20250626T091939Z
URL:https://www.asaja.com/eventos/asaja-sevilla-analiza-los-desafios-del-s
 ector-citricola-andaluz-en-su-xvii-jornada-de-citricos/
SUMMARY:ASAJA-Sevilla analiza los desafíos del sector citrícola andaluz e
 n su XVII Jornada de Cítricos
DESCRIPTION:Programa 17 Jornadas Citricos ASAJA Sevilla-V5
ATTACH;FMTTYPE=image/jpeg:https://www.asaja.com/wp-content/uploads/2025/06
 /asajas-sevilla-ee.png
CATEGORIES:Plurirregional
END:VEVENT
BEGIN:VTIMEZONE
TZID:Europe/Madrid
X-LIC-LOCATION:Europe/Madrid
BEGIN:DAYLIGHT
DTSTART:20250330T030000
TZOFFSETFROM:+0100
TZOFFSETTO:+0200
TZNAME:CEST
END:DAYLIGHT
END:VTIMEZONE
END:VCALENDAR