BEGIN:VCALENDAR
VERSION:2.0
PRODID:-//wp-events-plugin.com//7.1.7//EN
TZID:Europe/Madrid
X-WR-TIMEZONE:Europe/Madrid
BEGIN:VEVENT
UID:72@asaja.com
DTSTART;TZID=Europe/Madrid:20250724T103000
DTEND;TZID=Europe/Madrid:20250724T103000
DTSTAMP:20250723T111103Z
URL:https://www.asaja.com/eventos/asaja-extremadura-apag-balance-final-de-
 la-campana-de-cereales-de-invierno/
SUMMARY:ASAJA Extremadura APAG. Balance final de la campaña de cereales de
  invierno.
DESCRIPTION:Convocatoria de Apag Extremadura este Jueves 24 de julio\, a la
 s 10.45 horas\, en la sede de Mérida. Rueda de prensa para hacer balance 
 final de la campaña de cereales de invierno.\n\nSe podrán tomar todos lo
 s recursos gráficos y videográficos que se estimen oportunos.
ATTACH;FMTTYPE=image/jpeg:https://www.asaja.com/wp-content/uploads/2025/01
 /noticia-img-2.png
CATEGORIES:Plurirregional
END:VEVENT
BEGIN:VTIMEZONE
TZID:Europe/Madrid
X-LIC-LOCATION:Europe/Madrid
BEGIN:DAYLIGHT
DTSTART:20250330T030000
TZOFFSETFROM:+0100
TZOFFSETTO:+0200
TZNAME:CEST
END:DAYLIGHT
END:VTIMEZONE
END:VCALENDAR